BEGIN:VCALENDAR
VERSION:2.0
PRODID:-//GildedHeartCoaching.com - ECPv6.15.20//NONSGML v1.0//EN
CALSCALE:GREGORIAN
METHOD:PUBLISH
X-WR-CALNAME:GildedHeartCoaching.com
X-ORIGINAL-URL:https://gildedheartcoaching.com
X-WR-CALDESC:Events for GildedHeartCoaching.com
REFRESH-INTERVAL;VALUE=DURATION:PT1H
X-Robots-Tag:noindex
X-PUBLISHED-TTL:PT1H
BEGIN:VTIMEZONE
TZID:UTC
BEGIN:STANDARD
TZOFFSETFROM:+0000
TZOFFSETTO:+0000
TZNAME:UTC
DTSTART:20210101T000000
END:STANDARD
END:VTIMEZONE
BEGIN:VEVENT
DTSTART;TZID=UTC:20220811T200000
DTEND;TZID=UTC:20220811T213000
DTSTAMP:20260420T122217
CREATED:20220725T235946Z
LAST-MODIFIED:20230214T013648Z
UID:2150-1660248000-1660253400@gildedheartcoaching.com
SUMMARY:Full Moon in Aquarius
DESCRIPTION:Gather with us during the Full Sturgeon Moon in Aquarius to harness our full potential\, create new possibilities\, & release what no longer serves our Highest Evolution. \n \nYou will be led through a transformational experience in a safe & sacred container facilitated by Rev. Melissa Ketchum\, Interfaith minister\, energy healer\, and spiritual wellness coach with Gilded Heart Coaching who will guide us on this powerful journey of harnessing the moon’s magic to initiate change and healing as we birth new opportunities into our lives. \n \nHere’s what you can expect:\n– Guided mediation to tune into our subconscious beliefs and see more clearly what is blocking us. Inviting us back to our Divine Nature.\n– Sacred Release fire burning ceremony\n– The opportunity to transform our current emotional state though group ritual and ceremony\n– Deep\, transformative change through guided reflection in a safe & sacred container.\n– A supportive\, fun\, and encouraging group environment\n– Insights into the astrological energy of the Full Moon\n– Flower Altar (Bring fresh flowers\, crystals\, candles\, & prayers to charge on the altar)\nDate: August 11th\, 2022\nTime: 8-9:30pm *Doors open at 7:45pm. Ceremony begins promptly at 8pm.\nLocation: Hope Interfaith Center – 114 Pohl Rd. Mankato\, MN\nCost: Suggested love donation!\nOnly 11 seats available! – Please register for this event!\n \nWe are so passionate about curating these sacred containers where we can promote shared intention\, initiate profound healing\, & ignite deep transformation. All while engaging the senses! All are welcome! LGBTQIA+ friendly!\nFor event questions\, contact hello@huxleymyrrh.com
URL:https://gildedheartcoaching.com/event/full-moon-in-aquarius/
LOCATION:Hope Interfaith Center\, 114 Pohl Rd\, Mankato\, MN\, 56001\, United States
ATTACH;FMTTYPE=image/jpeg:https://gildedheartcoaching.com/wp-content/uploads/2022/04/libra-full-moon-circle.jpg
ORGANIZER;CN="Gilded Heart Coaching":MAILTO:melissa@gildedheartcoaching.com
END:VEVENT
END:VCALENDAR